BEGIN:VCALENDAR
VERSION:2.0
PRODID:-//https://lafayettelodge47.com///NONSGML kigkonsult.se iCalcreator 2.10.15//
METHOD:PUBLISH
BEGIN:VEVENT
UID:20260420T025606UTC-8702vfM6vz@https://lafayettelodge47.com/
DTSTAMP:20260420T025606Z
DESCRIPTION: https://lafayettelodge47.com/calendar/event/27-jenks-lodge-24-
 annual-communication
DTSTART:20250104T170000Z
DTEND:20250104T190000Z
LOCATION:Jenks Lodge (50 Pleasant Street\, Pawtucket\, RI 02860\, USA)
SUMMARY:Jenks Lodge #24 Annual Communication
URL:https://lafayettelodge47.com/calendar/event/27-jenks-lodge-24-annual-co
 mmunication
END:VEVENT
END:VCALENDAR
